BEGIN:VCALENDAR
PRODID:-//AT Content Types//AT Event//EN
VERSION:2.0
METHOD:PUBLISH
BEGIN:VEVENT
DTSTAMP:20260423T131017Z
CREATED:20200110T215143Z
UID:ATEvent-85957e3d005d455a8cb733a5def28492
LAST-MODIFIED:20200327T010219Z
SUMMARY:Cancelled-Go Fly a Kite
DTSTART:20200405T170000Z
DTEND:20200405T200000Z
DESCRIPTION:In the interest of keeping our community safe\, this event
  has been cancelled.
LOCATION:FENCE Cross Country
CATEGORIES:Family
CONTACT:Tracie Hanson\, 8288599021\, info@fence.org
CLASS:PUBLIC
END:VEVENT
END:VCALENDAR
