BEGIN:VCALENDAR
PRODID:-//AT Content Types//AT Event//EN
VERSION:2.0
METHOD:PUBLISH
BEGIN:VEVENT
DTSTAMP:20260423T095441Z
CREATED:20151027T193459Z
UID:ATEvent-b2bd984c-7990-4ed8-8b8f-7b854df05dc7
LAST-MODIFIED:20160310T175505Z
SUMMARY:POSTPONED DUE TO POTENTIAL RAIN!! New date April 2 Go Fly A Kite - Free Family Event
DTSTART:20160312T180000Z
DTEND:20160312T210000Z
DESCRIPTION:FENCE’s annual Go Fly a Kite day is a fun filled day for
  the whole family! The first 200 children will receive a kite to fly u
 p on Hawk’s ridge. Drinks and snacks will be provided to all who att
 end. This year be sure to stop by our face painting table.
LOCATION:FENCE Center
CATEGORIES:Family
CONTACT:Tracie Hanson\, 828-859-9021\, info@fence.org
CLASS:PUBLIC
END:VEVENT
END:VCALENDAR
