BEGIN:VCALENDAR
PRODID:-//AT Content Types//AT Event//EN
VERSION:1.0
BEGIN:VEVENT
DTSTART:20150307T180000Z
DTEND:20150307T210000Z
DCREATED:20150106T170059Z
UID:ATEvent-40a2c46b-fb66-4e36-b1eb-0d303498d56e
SEQUENCE:0
LAST-MODIFIED:20150129T155312Z
SUMMARY:Go Fly A Kite
LOCATION:FENCE - Hawks Ridge
PRIORITY:3
TRANSP:0
END:VEVENT
END:VCALENDAR
