BEGIN:VCALENDAR
PRODID:-//AT Content Types//AT Event//EN
VERSION:2.0
METHOD:PUBLISH
BEGIN:VEVENT
DTSTAMP:20260423T131017Z
CREATED:20120418T190109Z
UID:ATEvent-7d7acedf-9790-4d84-a938-46f880f3bfd5
LAST-MODIFIED:20120418T190110Z
SUMMARY:GFPC Cross Country Schooling
DTSTART:20120429T120000Z
DTEND:20120429T190000Z
LOCATION:Cross Country Course Nature Side FENCE
CONTACT:Caroline Culbertson\, 803-649-3505\, chculbertson@earthlink.net
CLASS:PUBLIC
END:VEVENT
END:VCALENDAR
