BEGIN:VCALENDAR
PRODID:-//AT Content Types//AT Event//EN
VERSION:1.0
BEGIN:VEVENT
DTSTART:20080512T140000Z
DTEND:20080512T150000Z
DCREATED:20080507T013112Z
UID:ATEvent-794efcf8-668e-4e1d-8a37-5502065f8788
SEQUENCE:0
LAST-MODIFIED:20080507T013112Z
SUMMARY:Gardening Seminar
DESCRIPTION:"Wonderful Wildflowers"\, with master gardener Linda Cobb.
  Free program.
LOCATION:FENCE Center Great Room
PRIORITY:3
TRANSP:0
END:VEVENT
END:VCALENDAR
