BEGIN:VCALENDAR
PRODID:-//AT Content Types//AT Event//EN
VERSION:2.0
METHOD:PUBLISH
BEGIN:VEVENT
DTSTAMP:20260423T115210Z
CREATED:20121012T200055Z
UID:ATEvent-01041cf0-a91b-4aac-8523-fd860f6bb313
LAST-MODIFIED:20121012T200055Z
SUMMARY:Gardening Seminar
DTSTART:20130311T140000Z
DTEND:20130311T150000Z
DESCRIPTION:"Top 10 Landscaping Mistakes" with Rhonda Anderson\, Owner
  of Motlow Creek Gardens
LOCATION:FENCE Center
CATEGORIES:Nature Program
CONTACT:Tracie Hanson\, 828-859-9021\, info@fence.org
CLASS:PUBLIC
END:VEVENT
END:VCALENDAR
