BEGIN:VCALENDAR
PRODID:-//AT Content Types//AT Event//EN
VERSION:2.0
METHOD:PUBLISH
BEGIN:VEVENT
DTSTAMP:20260423T131152Z
CREATED:20120416T211307Z
UID:ATEvent-4e40f061-5bf6-4210-83bb-c6e2017aff7d
LAST-MODIFIED:20120417T144505Z
SUMMARY:Gardening Seminar
DTSTART:20121112T150000Z
DTEND:20121112T160000Z
DESCRIPTION:“Underplant Your Trees” with Rhonda Anderson\, Landsca
 pe Designer.
LOCATION:Great Room/FENCE Center
CATEGORIES:Nature Program
CONTACT:Tracie Hanson\, 828-859-9021\, natureeducation@fence.org
CLASS:PUBLIC
END:VEVENT
END:VCALENDAR
