BEGIN:VCALENDAR
PRODID:-//AT Content Types//AT Event//EN
VERSION:2.0
METHOD:PUBLISH
BEGIN:VEVENT
DTSTAMP:20260423T131146Z
CREATED:20120416T210956Z
UID:ATEvent-412d216c-5438-46bd-9700-d80b941a7436
LAST-MODIFIED:20120417T022645Z
SUMMARY:Gardening Seminar
DTSTART:20121008T140000Z
DTEND:20121008T150000Z
DESCRIPTION:“Graceful Grasses” with Linda Cobb\, Master Gardener a
 nd Garden Author.
CATEGORIES:Nature Program
CONTACT:Tracie Hanson\, 828-859-9021\, natureeducation@fence.org
CLASS:PUBLIC
END:VEVENT
END:VCALENDAR
