BEGIN:VCALENDAR
PRODID:-//AT Content Types//AT Event//EN
VERSION:2.0
METHOD:PUBLISH
BEGIN:VEVENT
DTSTAMP:20260423T142308Z
CREATED:20140224T173452Z
UID:ATEvent-d648f359-7469-452a-b1c0-271cf4b1b059
LAST-MODIFIED:20140224T173453Z
SUMMARY:Garage Sale
DTSTART:20140308T130000Z
DTEND:20140308T180000Z
DESCRIPTION:Have you started your Spring clean out? Have things you wa
 nt to get rid of?   Foothills Equestrian Nature Center (FENCE) is havi
 ng their bi-annual community yard sale. Whether you come to sell or bu
 y you will not be disappointed. This sale always has something for eve
 ryone.
LOCATION:FENCE EQ side
CONTACT:Tracie Hanson\, 8288599021\, info@fence.org
CLASS:PUBLIC
END:VEVENT
END:VCALENDAR
