BEGIN:VCALENDAR
PRODID:-//AT Content Types//AT Event//EN
VERSION:2.0
METHOD:PUBLISH
BEGIN:VEVENT
DTSTAMP:20260423T062135Z
CREATED:20170106T173441Z
UID:ATEvent-71538378f96544ce8b14c4dcacae776b
LAST-MODIFIED:20170131T135759Z
SUMMARY:Full Moon Hike
DTSTART:20170210T230000Z
DTEND:20170211T003000Z
DESCRIPTION:The Full Snow Moon will illuminate the sky Friday\, Februa
 ry 10th.  A guided hike starts at the FENCE Center at 6 pm to enjoy th
 e sunset then ventures into the woods for a moonlit hike lead by Ameri
 Corps member Britney Tatters.
LOCATION:FENCE Center
CATEGORIES:Nature Program
CONTACT:Tracie Hanson\, 8288599021\, info@fence.org
CLASS:PUBLIC
END:VEVENT
END:VCALENDAR
