BEGIN:VCALENDAR
PRODID:-//AT Content Types//AT Event//EN
VERSION:2.0
METHOD:PUBLISH
BEGIN:VEVENT
DTSTAMP:20260423T170812Z
CREATED:20170106T174004Z
UID:ATEvent-94e62b16dbfc4cca89d54d8a966d5a33
LAST-MODIFIED:20170126T185132Z
SUMMARY:Full Moon Hike
DTSTART:20170312T000000Z
DTEND:20170312T013000Z
DESCRIPTION:The Full Worm Moon will illuminate the sky.  A guided hike
  starts at the FENCE Center at 7pm to enjoy the sunset then ventures i
 nto the woods for a moonlit hike lead by AmeriCorps member Britney Tat
 ters. During the hike the history behind the March full moon many name
 s and meanings will be discussed. All are encouraged to attend this fr
 ee guided hike. Please dress appropriate for the weather as it will be
  chilly.  Hot cocoa will be provided.
LOCATION:FENCE Center
CATEGORIES:Nature Program
CONTACT:Tracie Hanson\, 8288599021\, info@fence.org
CLASS:PUBLIC
END:VEVENT
END:VCALENDAR
