BEGIN:VCALENDAR
PRODID:-//AT Content Types//AT Event//EN
VERSION:1.0
BEGIN:VEVENT
DTSTART:20130928T120000Z
DTEND:20130928T210000Z
DCREATED:20130322T151614Z
UID:ATEvent-4a840cfe-5580-4c9e-a79f-f0be1c1959f5
SEQUENCE:0
LAST-MODIFIED:20130930T141536Z
SUMMARY:Friesian Kuering Horse Show
DESCRIPTION:A keuring is a judging event performed by various horse re
 gistries for European horse breeds including Friesian Horses. Judges (
 typically flown to the US from the Netherlands) review each horse acco
 rding to a stringent grading criteria. Each horse is judged carefully\
 , one at a time.
LOCATION:FENCE EQ side
PRIORITY:3
TRANSP:0
END:VEVENT
END:VCALENDAR
