BEGIN:VCALENDAR
PRODID:-//AT Content Types//AT Event//EN
VERSION:2.0
METHOD:PUBLISH
BEGIN:VEVENT
DTSTAMP:20260423T130926Z
CREATED:20211213T163710Z
UID:ATEvent-f9142aac2e4f4cdaaad692003b877b7a
LAST-MODIFIED:20211213T163710Z
SUMMARY:Friesan Clinic
DTSTART:20220215T120000Z
DTEND:20220216T230000Z
LOCATION:Equestrian side
CATEGORIES:Horse Show
CLASS:PUBLIC
END:VEVENT
END:VCALENDAR
