BEGIN:VCALENDAR
PRODID:-//AT Content Types//AT Event//EN
VERSION:1.0
BEGIN:VEVENT
DTSTART:20140418T153000Z
DTEND:20140418T163000Z
DCREATED:20140408T003940Z
UID:ATEvent-4dd12b3f-acee-46de-b0b9-11dc14a4f01a
SEQUENCE:0
LAST-MODIFIED:20140408T003940Z
SUMMARY:Free Yoga with Rhonda Durbin
PRIORITY:3
TRANSP:0
END:VEVENT
END:VCALENDAR
