BEGIN:VCALENDAR
PRODID:-//AT Content Types//AT Event//EN
VERSION:1.0
BEGIN:VEVENT
DTSTART:20240802T141500Z
DTEND:20240802T151500Z
DCREATED:20240801T142954Z
UID:ATEvent-e8c491be140845ce9d7df3517c49a119
SEQUENCE:0
LAST-MODIFIED:20240801T143202Z
SUMMARY:FREE Yoga Friday
DESCRIPTION:FENCE is offering free yoga on Fridays at 10:15am in the g
 reat room. This yoga class is designed for all levels. First time yoga
  students welcome!
LOCATION:FENCE Center
PRIORITY:3
TRANSP:0
END:VEVENT
END:VCALENDAR
