BEGIN:VCALENDAR
PRODID:-//AT Content Types//AT Event//EN
VERSION:2.0
METHOD:PUBLISH
BEGIN:VEVENT
DTSTAMP:20260425T222726Z
CREATED:20240801T184651Z
UID:ATEvent-1453886503974da8ba80472d8417c143
LAST-MODIFIED:20240801T184651Z
SUMMARY:FREE Yoga Friday
DTSTART:20240913T133000Z
DTEND:20240913T143000Z
DESCRIPTION:FENCE is offering free yoga on Fridays at 9:30am in the gr
 eat room. This yoga class is designed for all levels. First time yoga 
 students welcome!
LOCATION:FENCE Center
CATEGORIES:Family
CLASS:PUBLIC
END:VEVENT
END:VCALENDAR
