BEGIN:VCALENDAR
PRODID:-//AT Content Types//AT Event//EN
VERSION:2.0
METHOD:PUBLISH
BEGIN:VEVENT
DTSTAMP:20260423T115210Z
CREATED:20240801T143407Z
UID:ATEvent-bdf8e891b1cd4e55ada8092e7da296b2
LAST-MODIFIED:20240801T143407Z
SUMMARY:FREE Yoga Friday
DTSTART:20240830T133000Z
DTEND:20240830T143000Z
DESCRIPTION:FENCE is offering free yoga on Fridays at 9:30am in the gr
 eat room. This yoga class is designed for all levels. First time yoga 
 students welcome!
LOCATION:FENCE Center
CLASS:PUBLIC
END:VEVENT
END:VCALENDAR
