BEGIN:VCALENDAR
PRODID:-//AT Content Types//AT Event//EN
VERSION:1.0
BEGIN:VEVENT
DTSTART:20251205T143000Z
DTEND:20251205T153000Z
DCREATED:20250929T150532Z
UID:ATEvent-0f22293f05434b3ca73886e393a82a1b
SEQUENCE:0
LAST-MODIFIED:20250929T150532Z
SUMMARY:Free Yoga Friday
DESCRIPTION:FENCE is offering free yoga on Fridays at 9:30am in the gr
 eat room. This yoga class is designed for all levels. First time yoga 
 students welcome!
PRIORITY:3
TRANSP:0
END:VEVENT
END:VCALENDAR
