BEGIN:VCALENDAR
PRODID:-//AT Content Types//AT Event//EN
VERSION:1.0
BEGIN:VEVENT
DTSTART:20250221T143000Z
DTEND:20250222T033000Z
DCREATED:20250106T143946Z
UID:ATEvent-e929ad7d60c84b14bbc46fc880d936aa
SEQUENCE:0
LAST-MODIFIED:20250106T143946Z
SUMMARY:Free Yoga Friday
DESCRIPTION:FENCE is offering free yoga on Fridays at 9:30am in the gr
 eat room. This yoga class is designed for all levels. First time yoga 
 students welcome!
LOCATION:FENCE Center
PRIORITY:3
TRANSP:0
END:VEVENT
END:VCALENDAR
