BEGIN:VCALENDAR
PRODID:-//AT Content Types//AT Event//EN
VERSION:1.0
BEGIN:VEVENT
DTSTART:20250214T143000Z
DTEND:20250215T033000Z
DCREATED:20250106T143834Z
UID:ATEvent-4a45105963c54486a5ef52797221f97b
SEQUENCE:0
LAST-MODIFIED:20250106T143834Z
SUMMARY:Free Yoga Friday
LOCATION:FENCE Center
PRIORITY:3
TRANSP:0
END:VEVENT
END:VCALENDAR
