BEGIN:VCALENDAR
PRODID:-//AT Content Types//AT Event//EN
VERSION:1.0
BEGIN:VEVENT
DTSTART:20250207T143000Z
DTEND:20250208T033000Z
DCREATED:20250106T143746Z
UID:ATEvent-626e0b1b404c4a9cad6473a8b1a20de6
SEQUENCE:0
LAST-MODIFIED:20250106T143746Z
SUMMARY:Free Yoga Friday
DESCRIPTION:FENCE is offering free yoga on Fridays at 9:30am in the gr
 eat room. This yoga class is designed for all levels. First time yoga 
 students welcome!
LOCATION:FENCE Center
PRIORITY:3
TRANSP:0
END:VEVENT
END:VCALENDAR
