BEGIN:VCALENDAR
PRODID:-//AT Content Types//AT Event//EN
VERSION:2.0
METHOD:PUBLISH
BEGIN:VEVENT
DTSTAMP:20260423T114918Z
CREATED:20250106T143038Z
UID:ATEvent-466522d1e47246109d9ce5222cc65636
LAST-MODIFIED:20250106T143038Z
SUMMARY:Free Yoga Friday
DTSTART:20250131T143000Z
DTEND:20250201T033000Z
DESCRIPTION:FENCE is offering free yoga on Fridays at 9:30am in the gr
 eat room. This yoga class is designed for all levels. First time yoga 
 students welcome!
LOCATION:FENCE Center
CATEGORIES:Family
CLASS:PUBLIC
END:VEVENT
END:VCALENDAR
