BEGIN:VCALENDAR
PRODID:-//AT Content Types//AT Event//EN
VERSION:2.0
METHOD:PUBLISH
BEGIN:VEVENT
DTSTAMP:20260423T115206Z
CREATED:20240801T190523Z
UID:ATEvent-e6f0d35e9e484582b194f25707e19d4c
LAST-MODIFIED:20240801T190523Z
SUMMARY:FREE Yoga Friday
DTSTART:20241115T143000Z
DTEND:20241115T153000Z
DESCRIPTION:FENCE is offering free yoga on Fridays at 9:30am in the gr
 eat room. This yoga class is designed for all levels. First time yoga 
 students welcome!
CATEGORIES:Family
CLASS:PUBLIC
END:VEVENT
END:VCALENDAR
