BEGIN:VCALENDAR
PRODID:-//AT Content Types//AT Event//EN
VERSION:2.0
METHOD:PUBLISH
BEGIN:VEVENT
DTSTAMP:20260419T222911Z
CREATED:20240801T190353Z
UID:ATEvent-f919dd5713c347eb899fd160a555bd44
LAST-MODIFIED:20240801T190353Z
SUMMARY:FREE Yoga Friday
DTSTART:20241108T143000Z
DTEND:20241108T153000Z
DESCRIPTION:FENCE is offering free yoga on Fridays at 9:30am in the gr
 eat room. This yoga class is designed for all levels. First time yoga 
 students welcome!
LOCATION:FENCE Center
CATEGORIES:Family
CLASS:PUBLIC
END:VEVENT
END:VCALENDAR
