BEGIN:VCALENDAR
PRODID:-//AT Content Types//AT Event//EN
VERSION:1.0
BEGIN:VEVENT
DTSTART:20241101T133000Z
DTEND:20241101T143000Z
DCREATED:20240801T190235Z
UID:ATEvent-e92311280d864fc59987357e6c594251
SEQUENCE:0
LAST-MODIFIED:20240801T190235Z
SUMMARY:FREE Yoga Friday
DESCRIPTION:FENCE is offering free yoga on Fridays at 9:30am in the gr
 eat room. This yoga class is designed for all levels. First time yoga 
 students welcome!
LOCATION:FENCE Center
PRIORITY:3
TRANSP:0
END:VEVENT
END:VCALENDAR
