BEGIN:VCALENDAR
PRODID:-//AT Content Types//AT Event//EN
VERSION:2.0
METHOD:PUBLISH
BEGIN:VEVENT
DTSTAMP:20260421T101954Z
CREATED:20240801T190124Z
UID:ATEvent-bdc0a8fcc19449a3a28632a1b7f8e0b4
LAST-MODIFIED:20240801T190124Z
SUMMARY:FREE Yoga Friday
DTSTART:20241025T133000Z
DTEND:20241025T143000Z
DESCRIPTION:FENCE is offering free yoga on Fridays at 9:30am in the gr
 eat room. This yoga class is designed for all levels. First time yoga 
 students welcome!
LOCATION:FENCE Center
CATEGORIES:Family
CLASS:PUBLIC
END:VEVENT
END:VCALENDAR
