BEGIN:VCALENDAR
PRODID:-//AT Content Types//AT Event//EN
VERSION:2.0
METHOD:PUBLISH
BEGIN:VEVENT
DTSTAMP:20260423T154814Z
CREATED:20140120T214448Z
UID:ATEvent-3f140f00-4b30-4ea3-8d31-aeadfdf779e7
LAST-MODIFIED:20140408T003745Z
SUMMARY:Yoga rescheduled for April 18
DTSTART:20140411T153000Z
DTEND:20140411T163000Z
DESCRIPTION:Rhonda Durbin is a fitness instructor and personal trainer
  at Tryon Health & Fitness Club. We are very excited to offer ten week
 s of free yoga on Fridays at 11:30 AM starting February 7 through Apri
 l 11.  These classes are made possible by the Kirby Endowment at Polk 
 County Community Foundation.
LOCATION:Fence Center
CATEGORIES:Family
CONTACT:Tracie Hanson\, 8288599021\, info@fence.org
CLASS:PUBLIC
END:VEVENT
END:VCALENDAR
