BEGIN:VCALENDAR
PRODID:-//AT Content Types//AT Event//EN
VERSION:2.0
METHOD:PUBLISH
BEGIN:VEVENT
DTSTAMP:20260423T115009Z
CREATED:20230905T010107Z
UID:ATEvent-25a6b585466640ebbe8476e0b8989014
LAST-MODIFIED:20230905T010107Z
SUMMARY:Free yoga class
DTSTART:20231006T141500Z
DTEND:20231006T151500Z
DESCRIPTION:FENCE is offering free yoga on Fridays at 10:15am in the g
 reat room.\nThis yoga class is designed for all levels\, first time yo
 ga students welcome!
LOCATION:FENCE Center
CATEGORIES:Family
CONTACT:828-859-9021\, info@fence.org
CLASS:PUBLIC
END:VEVENT
END:VCALENDAR
