BEGIN:VCALENDAR
PRODID:-//AT Content Types//AT Event//EN
VERSION:1.0
BEGIN:VEVENT
DTSTART:20240315T141500Z
DTEND:20240315T151500Z
DCREATED:20230928T174212Z
UID:ATEvent-e729681d3c4e4fcbbe397382410f6e1b
SEQUENCE:0
LAST-MODIFIED:20230928T174212Z
SUMMARY:Free Yoga Class
DESCRIPTION:FENCE is offering free yoga on Fridays at 10:15am in the g
 reat room. This yoga class is designed for all levels\, first time yog
 a students welcome!
LOCATION:FENCE Center
PRIORITY:3
TRANSP:0
END:VEVENT
END:VCALENDAR
