BEGIN:VCALENDAR
PRODID:-//AT Content Types//AT Event//EN
VERSION:1.0
BEGIN:VEVENT
DTSTART:20240126T151500Z
DTEND:20240126T161500Z
DCREATED:20230928T160449Z
UID:ATEvent-e34aaa5260f14a07899aa56bd4e68111
SEQUENCE:0
LAST-MODIFIED:20230928T160642Z
SUMMARY:Free Yoga Class
DESCRIPTION:FENCE is offering free yoga on Fridays at 10:15am in the g
 reat room. This yoga class is designed for all levels\, first time yog
 a students welcome!
PRIORITY:3
TRANSP:0
END:VEVENT
END:VCALENDAR
