BEGIN:VCALENDAR
PRODID:-//AT Content Types//AT Event//EN
VERSION:1.0
BEGIN:VEVENT
DTSTART:20231215T151500Z
DTEND:20231215T161500Z
DCREATED:20230905T011104Z
UID:ATEvent-d928fbaf246248b898404fad55c41469
SEQUENCE:0
LAST-MODIFIED:20230905T011104Z
SUMMARY:Free yoga class
DESCRIPTION:FENCE is offering free yoga on Fridays at 10:15am in the g
 reat room.\nThis yoga class is designed for all levels\, first time yo
 ga students welcome!
LOCATION:FENCE Center
PRIORITY:3
TRANSP:0
END:VEVENT
END:VCALENDAR
