BEGIN:VCALENDAR
PRODID:-//AT Content Types//AT Event//EN
VERSION:2.0
METHOD:PUBLISH
BEGIN:VEVENT
DTSTAMP:20260423T155059Z
CREATED:20140521T192340Z
UID:ATEvent-78c52102-f1ca-4bc2-8320-e8356d0e2c80
LAST-MODIFIED:20140521T192454Z
SUMMARY:Free Yoga at FENCE on Fridays at 11:30AM
DTSTART:20140523T153000Z
DTEND:20140523T163000Z
DESCRIPTION:Are you looking to feel good and limber up for outdoor sum
 mer activities? Come join us with Rhonda Durbin\, a fitness instructor
  and personal trainer.  She will lead the group in a series of yoga cl
 asses.  Classes will be held in the great room at FENCE each Friday at
  11:30AM\, May 23-July 18.  If you have any questions\, please feel fr
 ee to call 828-859-9021 or email info@fence.org\n\nThis series has bee
 n made possible by the Kirby Endowment at Polk County Community Founda
 tion.
LOCATION:Fence Center
CATEGORIES:Family
CONTACT:Tracie Hanson\, 8288599021\, natureeducation@fence.org
CLASS:PUBLIC
END:VEVENT
END:VCALENDAR
