BEGIN:VCALENDAR
PRODID:-//AT Content Types//AT Event//EN
VERSION:1.0
BEGIN:VEVENT
DTSTART:20160909T153000Z
DTEND:20160909T163000Z
DCREATED:20160721T153041Z
UID:ATEvent-14c3dbf386d443cbaa4f5c47643e9085
SEQUENCE:0
LAST-MODIFIED:20160721T153041Z
SUMMARY:Free Yoga at FENCE
LOCATION:FENCE Center
PRIORITY:3
TRANSP:0
END:VEVENT
END:VCALENDAR
