BEGIN:VCALENDAR
PRODID:-//AT Content Types//AT Event//EN
VERSION:1.0
BEGIN:VEVENT
DTSTART:20160902T153000Z
DTEND:20160902T163000Z
DCREATED:20160721T152844Z
UID:ATEvent-2f2c9ecc14a34f03913be1178a519e02
SEQUENCE:0
LAST-MODIFIED:20160721T152844Z
SUMMARY:Free Yoga at FENCE
LOCATION:FENCE Center
PRIORITY:3
TRANSP:0
END:VEVENT
END:VCALENDAR
