BEGIN:VCALENDAR
PRODID:-//AT Content Types//AT Event//EN
VERSION:2.0
METHOD:PUBLISH
BEGIN:VEVENT
DTSTAMP:20260421T102635Z
CREATED:20190624T175057Z
UID:ATEvent-ff6e6cbe4579447c83e6e8121192ece9
LAST-MODIFIED:20190624T175058Z
SUMMARY:Free Yoga at FENCE
DTSTART:20190628T151500Z
DTEND:20190628T161500Z
DESCRIPTION:FENCE offers a free yoga series on Friday mornings held in
  the FENCE great room. The yoga classes are led by local instructor Rh
 onda Giles. All ages and yoga enthusiasts of all levels are welcome!
LOCATION:FENCE Center
CATEGORIES:Family
CONTACT:828-859-9021\, info@fence.org
CLASS:PUBLIC
END:VEVENT
END:VCALENDAR
