BEGIN:VCALENDAR
PRODID:-//AT Content Types//AT Event//EN
VERSION:1.0
BEGIN:VEVENT
DTSTART:20161028T153000Z
DTEND:20161028T163000Z
DCREATED:20160721T153839Z
UID:ATEvent-b67c01a9b4e749f5a4a60595e5a754db
SEQUENCE:0
LAST-MODIFIED:20161025T190236Z
SUMMARY:Free Yoga at FENCE
DESCRIPTION:Location change ONLY for this date. Please go to the Tryon
  Fitness Gym
LOCATION:FENCE Center
PRIORITY:3
TRANSP:0
END:VEVENT
END:VCALENDAR
