BEGIN:VCALENDAR
PRODID:-//AT Content Types//AT Event//EN
VERSION:2.0
METHOD:PUBLISH
BEGIN:VEVENT
DTSTAMP:20260423T115707Z
CREATED:20160721T153738Z
UID:ATEvent-980d5dbaaddd4e2cb48414eadc4c71c7
LAST-MODIFIED:20160721T153738Z
SUMMARY:Free Yoga at FENCE
DTSTART:20161021T153000Z
DTEND:20161021T163000Z
LOCATION:FENCE Center
CATEGORIES:Family
CONTACT:Tracie Hanson\, 8288599021\, info@fence.org
CLASS:PUBLIC
END:VEVENT
END:VCALENDAR
