BEGIN:VCALENDAR
PRODID:-//AT Content Types//AT Event//EN
VERSION:1.0
BEGIN:VEVENT
DTSTART:20161007T153000Z
DTEND:20161007T163000Z
DCREATED:20160721T153547Z
UID:ATEvent-f6d171234cc14a61862ef0e0048a94f1
SEQUENCE:0
LAST-MODIFIED:20160721T153547Z
SUMMARY:Free Yoga at FENCE
LOCATION:FENCE Center
PRIORITY:3
TRANSP:0
END:VEVENT
END:VCALENDAR
