BEGIN:VCALENDAR
PRODID:-//AT Content Types//AT Event//EN
VERSION:2.0
METHOD:PUBLISH
BEGIN:VEVENT
DTSTAMP:20260423T105355Z
CREATED:20220726T130319Z
UID:ATEvent-a5788f6360f146f99dc3ef5bf8248813
LAST-MODIFIED:20220726T130319Z
SUMMARY:Free Yoga
DTSTART:20220812T141500Z
DTEND:20220812T151500Z
DESCRIPTION:FENCE is offering free yoga on Fridays at 10:15am in the g
 reat room. The yoga classes are taught by local instructor Rhonda Gile
 s. This yoga class is designed for all levels\, first time yoga studen
 ts welcome!
LOCATION:FENCE Center
CATEGORIES:Family
CONTACT:Tracie Hanson\, 8288599021\, info@fence.org
CLASS:PUBLIC
END:VEVENT
END:VCALENDAR
