BEGIN:VCALENDAR
PRODID:-//AT Content Types//AT Event//EN
VERSION:1.0
BEGIN:VEVENT
DTSTART:20200207T050000Z
DTEND:20200208T045500Z
DCREATED:20200109T213052Z
UID:ATEvent-a7d1bdb58b2a43e6a4fbf73113c58c6d
SEQUENCE:0
LAST-MODIFIED:20200109T213052Z
SUMMARY:Free Yoga
DESCRIPTION:FENCE offers a free yoga series on Friday mornings held in
  the FENCE great room. The yoga classes are led by local instructor Rh
 onda Giles. All ages and yoga enthusiasts of all levels are welcome!
LOCATION:FENCE Center
PRIORITY:3
TRANSP:0
END:VEVENT
END:VCALENDAR
