BEGIN:VCALENDAR
PRODID:-//AT Content Types//AT Event//EN
VERSION:2.0
METHOD:PUBLISH
BEGIN:VEVENT
DTSTAMP:20260423T170832Z
CREATED:20170505T204450Z
UID:ATEvent-21121b1c702a400a97d23f7deecb0e63
LAST-MODIFIED:20170505T204451Z
SUMMARY:Free Yoga
DTSTART:20170512T153000Z
DTEND:20170512T163000Z
DESCRIPTION:FENCE will be offering a free yoga series on Friday mornin
 gs held in the FENCE great room. The yoga classes are lead by local in
 structor Rhonda Giles. All ages and yoga enthusiasts of all levels are
  welcome. Attendees are encouraged to bring a water bottle to the clas
 s. Yoga mats will be available for use. These classes are made possibl
 e by the free community event grant at Polk County Community Foundatio
 n.
LOCATION:FENCE Center
CATEGORIES:Family
CONTACT:Tracie Hanson\, 8288599021\, info@fence.org
CLASS:PUBLIC
END:VEVENT
END:VCALENDAR
