BEGIN:VCALENDAR
PRODID:-//AT Content Types//AT Event//EN
VERSION:1.0
BEGIN:VEVENT
DTSTART:20191011T151500Z
DTEND:20191011T161500Z
DCREATED:20190624T180407Z
UID:ATEvent-78dfaf37d2d841f99720e5b16721b315
SEQUENCE:0
LAST-MODIFIED:20190624T180407Z
SUMMARY:Free Yoga
DESCRIPTION:FENCE offers a free yoga series on Friday mornings held in
  the FENCE great room. The yoga classes are led by local instructor Rh
 onda Giles. All ages and yoga enthusiasts of all levels are welcome!
LOCATION:FENCE Center
PRIORITY:3
TRANSP:0
END:VEVENT
END:VCALENDAR
