BEGIN:VCALENDAR
PRODID:-//AT Content Types//AT Event//EN
VERSION:1.0
BEGIN:VEVENT
DTSTART:20190816T151500Z
DTEND:20190816T161500Z
DCREATED:20190624T175658Z
UID:ATEvent-c7b88892ae754e04af8c651495b3bc7a
SEQUENCE:0
LAST-MODIFIED:20190624T175658Z
SUMMARY:Free Yoga
DESCRIPTION:FENCE offers a free yoga series on Friday mornings held in
  the FENCE great room. The yoga classes are led by local instructor Rh
 onda Giles. All ages and yoga enthusiasts of all levels are welcome!
LOCATION:FENCE Center
PRIORITY:3
TRANSP:0
END:VEVENT
END:VCALENDAR
