BEGIN:VCALENDAR
PRODID:-//AT Content Types//AT Event//EN
VERSION:2.0
METHOD:PUBLISH
BEGIN:VEVENT
DTSTAMP:20260423T141400Z
CREATED:20190202T185624Z
UID:ATEvent-81c293d30616488f82ce5fce1efee7df
LAST-MODIFIED:20190315T131916Z
SUMMARY:No Free yoga due to scheduling! Resume next week
DTSTART:20190315T151500Z
DTEND:20190315T161500Z
DESCRIPTION:FENCE offers a free yoga series on Friday mornings held in
  the FENCE great room. The yoga classes are led by local instructor Rh
 onda Giles. All ages and yoga enthusiasts of all levels are welcome!
LOCATION:FENCE Center
CATEGORIES:Family
CONTACT:8288599021\, info@fence.org
CLASS:PUBLIC
END:VEVENT
END:VCALENDAR
