BEGIN:VCALENDAR
PRODID:-//AT Content Types//AT Event//EN
VERSION:1.0
BEGIN:VEVENT
DTSTART:20190301T161500Z
DTEND:20190301T171500Z
DCREATED:20190202T184542Z
UID:ATEvent-b732019753e045bca2ca0785df409cdd
SEQUENCE:0
LAST-MODIFIED:20190202T184543Z
SUMMARY:Free yoga
DESCRIPTION:FENCE offers a free yoga series on Friday mornings held in
  the FENCE great room. The yoga classes are led by local instructor Rh
 onda Giles. All ages and yoga enthusiasts of all levels are welcome!
LOCATION:FENCE Center
PRIORITY:3
TRANSP:0
END:VEVENT
END:VCALENDAR
