BEGIN:VCALENDAR
PRODID:-//AT Content Types//AT Event//EN
VERSION:1.0
BEGIN:VEVENT
DTSTART:20190215T161500Z
DTEND:20190215T171500Z
DCREATED:20190123T232906Z
UID:ATEvent-ea19687beed64176b79e76b6284e366c
SEQUENCE:0
LAST-MODIFIED:20190123T232906Z
SUMMARY:Free yoga
DESCRIPTION:FENCE offers a free yoga series on Friday mornings held in
  the FENCE great room. The yoga classes are led by local instructor Rh
 onda Giles. All ages and yoga enthusiasts of all levels are welcome!
LOCATION:FENCE center
PRIORITY:3
TRANSP:0
END:VEVENT
END:VCALENDAR
