BEGIN:VCALENDAR
PRODID:-//AT Content Types//AT Event//EN
VERSION:1.0
BEGIN:VEVENT
DTSTART:20170505T153000Z
DTEND:20170505T163000Z
DCREATED:20170505T204240Z
UID:ATEvent-4462f3a12fde4cac9984db3d06350659
SEQUENCE:0
LAST-MODIFIED:20170505T204240Z
SUMMARY:Free Yoga
DESCRIPTION:FENCE will be offering a free yoga series on Friday mornin
 gs.  Yoga will begin at 11:30am in the great room. The yoga classes ar
 e lead by local instructor Rhonda Giles. All ages and yoga enthusiasts
  of all levels are welcome. Attendees are encouraged to bring a water 
 bottle to the class. Yoga mats will be available for use. These classe
 s are made possible by the free community event grant at Polk County C
 ommunity Foundation.
LOCATION:FENCE Center
PRIORITY:3
TRANSP:0
END:VEVENT
END:VCALENDAR
