BEGIN:VCALENDAR
PRODID:-//AT Content Types//AT Event//EN
VERSION:1.0
BEGIN:VEVENT
DTSTART:20180223T163000Z
DTEND:20180223T173000Z
DCREATED:20170927T180557Z
UID:ATEvent-01d395662be5426da39e0a29db533cb6
SEQUENCE:0
LAST-MODIFIED:20170927T180558Z
SUMMARY:Free Yoga
DESCRIPTION:FENCE offers a free yoga series on Friday mornings held in
  the FENCE great room. The yoga classes are led by local instructor Rh
 onda Giles. All ages and yoga enthusiasts of all levels are welcome!
PRIORITY:3
TRANSP:0
END:VEVENT
END:VCALENDAR
