BEGIN:VCALENDAR
PRODID:-//AT Content Types//AT Event//EN
VERSION:2.0
METHOD:PUBLISH
BEGIN:VEVENT
DTSTAMP:20260423T142134Z
CREATED:20170927T180258Z
UID:ATEvent-c66447b713f94ee99ab14a7f60228dfd
LAST-MODIFIED:20170927T180258Z
SUMMARY:Free Yoga
DTSTART:20180209T163000Z
DTEND:20180209T173000Z
DESCRIPTION:FENCE offers a free yoga series on Friday mornings held in
  the FENCE great room. The yoga classes are led by local instructor Rh
 onda Giles. All ages and yoga enthusiasts of all levels are welcome!
CATEGORIES:Family
CONTACT:Tracie Hanson\, 828-859-9021\, info@fence.org
CLASS:PUBLIC
END:VEVENT
END:VCALENDAR
