BEGIN:VCALENDAR
PRODID:-//AT Content Types//AT Event//EN
VERSION:1.0
BEGIN:VEVENT
DTSTART:20180126T163000Z
DTEND:20180126T173000Z
DCREATED:20170927T173935Z
UID:ATEvent-3c2014c78f0640aa923657223fa1eeb0
SEQUENCE:0
LAST-MODIFIED:20170927T173936Z
SUMMARY:Free Yoga
DESCRIPTION:FENCE offers a free yoga series on Friday mornings held in
  the FENCE great room. The yoga classes are led by local instructor Rh
 onda Giles. All ages and yoga enthusiasts of all levels are welcome!
PRIORITY:3
TRANSP:0
END:VEVENT
END:VCALENDAR
